BEGIN:VCALENDAR
VERSION:2.0
PRODID:-//wp-events-plugin.com//7.2.3.1//EN
TZID:Europe/Vienna
X-WR-TIMEZONE:Europe/Vienna
BEGIN:VEVENT
UID:189@lac-unlimited.at
DTSTART;TZID=Europe/Vienna:20241231T140000
DTEND;TZID=Europe/Vienna:20241231T140000
DTSTAMP:20241211T073614Z
URL:https://www.lac-unlimited.at/events/st-martiner-silvesterlauf/
SUMMARY:St. Martiner Silvesterlauf
DESCRIPTION:Nähere Informationen gibt es hier: 8. St. Martiner Silvesterla
 uf - SMS\, 31.12.2024 : : my.race|result\n&nbsp\;
CATEGORIES:Lauf
END:VEVENT
BEGIN:VTIMEZONE
TZID:Europe/Vienna
X-LIC-LOCATION:Europe/Vienna
BEGIN:STANDARD
DTSTART:20241027T020000
TZOFFSETFROM:+0200
TZOFFSETTO:+0100
TZNAME:CET
END:STANDARD
END:VTIMEZONE
END:VCALENDAR