BEGIN:VCALENDAR
VERSION:2.0
PRODID:-//wp-events-plugin.com//7.2.3.1//EN
TZID:Europe/Vienna
X-WR-TIMEZONE:Europe/Vienna
BEGIN:VEVENT
UID:220@lac-unlimited.at
DTSTART;TZID=Europe/Vienna:20250201T000000
DTEND;TZID=Europe/Vienna:20250201T000000
DTSTAMP:20250201T123918Z
URL:https://www.lac-unlimited.at/events/int-oestm-halle-der-masters-wlv-ma
 sters-halle/
SUMMARY:Int. ÖSTM Halle der Masters\, WLV Masters Halle
DESCRIPTION:
CATEGORIES:Lauf
END:VEVENT
BEGIN:VTIMEZONE
TZID:Europe/Vienna
X-LIC-LOCATION:Europe/Vienna
BEGIN:STANDARD
DTSTART:20241027T020000
TZOFFSETFROM:+0200
TZOFFSETTO:+0100
TZNAME:CET
END:STANDARD
END:VTIMEZONE
END:VCALENDAR