BEGIN:VCALENDAR
VERSION:2.0
PRODID:-//wp-events-plugin.com//7.2.3.1//EN
TZID:Europe/Vienna
X-WR-TIMEZONE:Europe/Vienna
BEGIN:VEVENT
UID:134@lac-unlimited.at
DTSTART;TZID=Europe/Vienna:20250216T000000
DTEND;TZID=Europe/Vienna:20250216T000000
DTSTAMP:20241112T112842Z
URL:https://www.lac-unlimited.at/events/eisbaer-cup-2-internationaler-lcc-
 eisbaerlauf/
SUMMARY:EISBÄR-CUP - 2. Internationaler LCC-Eisbärlauf
DESCRIPTION:Nähere Infos gibt es hier: 2.eisbärlauf 16.2.2025
CATEGORIES:Lauf
END:VEVENT
BEGIN:VTIMEZONE
TZID:Europe/Vienna
X-LIC-LOCATION:Europe/Vienna
BEGIN:STANDARD
DTSTART:20241027T020000
TZOFFSETFROM:+0200
TZOFFSETTO:+0100
TZNAME:CET
END:STANDARD
END:VTIMEZONE
END:VCALENDAR