BEGIN:VCALENDAR
VERSION:2.0
PRODID:-//wp-events-plugin.com//7.2.3.1//EN
TZID:Europe/Vienna
X-WR-TIMEZONE:Europe/Vienna
BEGIN:VEVENT
UID:142@lac-unlimited.at
DTSTART;TZID=Europe/Vienna:20250124T000000
DTEND;TZID=Europe/Vienna:20250125T000000
DTSTAMP:20241113T073435Z
URL:https://www.lac-unlimited.at/events/burgenland-extrem-tour/
SUMMARY:Burgenland Extrem Tour
DESCRIPTION:Nähere Informationen gibt es hier: Burgenland Extrem Tour - Bu
 rgenland Extrem
CATEGORIES:Lauf
END:VEVENT
BEGIN:VTIMEZONE
TZID:Europe/Vienna
X-LIC-LOCATION:Europe/Vienna
BEGIN:STANDARD
DTSTART:20241027T020000
TZOFFSETFROM:+0200
TZOFFSETTO:+0100
TZNAME:CET
END:STANDARD
END:VTIMEZONE
END:VCALENDAR