BEGIN:VCALENDAR
VERSION:2.0
PRODID:-//wp-events-plugin.com//7.2.3.1//EN
TZID:Europe/Vienna
X-WR-TIMEZONE:Europe/Vienna
BEGIN:VEVENT
UID:141@lac-unlimited.at
DTSTART;TZID=Europe/Vienna:20250123T000000
DTEND;TZID=Europe/Vienna:20250123T000000
DTSTAMP:20241113T073047Z
URL:https://www.lac-unlimited.at/events/bike-224-meilen/
SUMMARY:BIKE 224 MEILEN
DESCRIPTION:Nähere Informationen gibt es hier: BIKE 224 MEILEN - Burgenlan
 d Extrem
CATEGORIES:Rad
END:VEVENT
BEGIN:VTIMEZONE
TZID:Europe/Vienna
X-LIC-LOCATION:Europe/Vienna
BEGIN:STANDARD
DTSTART:20241027T020000
TZOFFSETFROM:+0200
TZOFFSETTO:+0100
TZNAME:CET
END:STANDARD
END:VTIMEZONE
END:VCALENDAR